BEGIN:VCALENDAR
VERSION:2.0
PRODID:-//Democratic Women of Santa Barbara County - ECPv6.15.20//NONSGML v1.0//EN
CALSCALE:GREGORIAN
METHOD:PUBLISH
X-WR-CALNAME:Democratic Women of Santa Barbara County
X-ORIGINAL-URL:https://demwomensb.com
X-WR-CALDESC:Events for Democratic Women of Santa Barbara County
REFRESH-INTERVAL;VALUE=DURATION:PT1H
X-Robots-Tag:noindex
X-PUBLISHED-TTL:PT1H
BEGIN:VTIMEZONE
TZID:America/Los_Angeles
BEGIN:DAYLIGHT
TZOFFSETFROM:-0800
TZOFFSETTO:-0700
TZNAME:PDT
DTSTART:20240310T100000
END:DAYLIGHT
BEGIN:STANDARD
TZOFFSETFROM:-0700
TZOFFSETTO:-0800
TZNAME:PST
DTSTART:20241103T090000
END:STANDARD
BEGIN:DAYLIGHT
TZOFFSETFROM:-0800
TZOFFSETTO:-0700
TZNAME:PDT
DTSTART:20250309T100000
END:DAYLIGHT
BEGIN:STANDARD
TZOFFSETFROM:-0700
TZOFFSETTO:-0800
TZNAME:PST
DTSTART:20251102T090000
END:STANDARD
BEGIN:DAYLIGHT
TZOFFSETFROM:-0800
TZOFFSETTO:-0700
TZNAME:PDT
DTSTART:20260308T100000
END:DAYLIGHT
BEGIN:STANDARD
TZOFFSETFROM:-0700
TZOFFSETTO:-0800
TZNAME:PST
DTSTART:20261101T090000
END:STANDARD
END:VTIMEZONE
BEGIN:VEVENT
DTSTART;TZID=America/Los_Angeles:20250610T150000
DTEND;TZID=America/Los_Angeles:20250610T170000
DTSTAMP:20260421T013222
CREATED:20250516T193258Z
LAST-MODIFIED:20250516T193723Z
UID:4826-1749567600-1749574800@demwomensb.com
SUMMARY:Inside the Freshman Fight — A Zoom Conversation with CA's New Members of Congress
DESCRIPTION:Join us for an exclusive and energizing informational Zoom conversation with three newly elected California Members of Congress who flipped Republican seats in 2024. Hear firsthand how they won tough races\, what they’ve been learning in their first term\, and how we can continue to support their efforts. Many of us have gotten to know them through their candidacies – donating\, attending events\, door knocking\, making calls\, and postcarding – and our efforts paid off as they all won very tight races. Thank you for whatever part you played. \n \nThis event will be moderated by Billy Ray\, Academy Award-nominated screenwriter and director\, and passionate activist for Democracy.\n \nWhen: Tuesday\, June 10th\, 3:00 pm PT\n \nWhere: Zoom\, please RSVP here \n \nWho:\n\nGeorge Whitesides 27th District (Northern LA County\, including Lancaster\, Palmdale\, Santa Clarita)\nBefore entering politics\, Whitesides held prominent roles in the aerospace sector\, including serving as Chief of Staff at NASA and as CEO of Virgin Galactic. He is the Vice Ranking Member on the House Science\, Space\, and Technology Committee\, where he contributes to shaping policies on innovation and research. Additionally\, he serves on the House Armed Services Committee. Whitesides unseated Republican incumbent Mike Garcia\, a former Navy fighter pilot\, in a closely contested race that flipped the district to Democratic control. \n\n\n\nDerek Tran 45th District (Parts of Orange and LA Counties\, around Anaheim\, Fullerton\, Garden Grove\, Fountain Valley)\nBorn in Los Angeles County in 1980\, Tran is the son of Vietnamese refugees who fled the Communist regime in Vietnam. He grew up in the San Gabriel Valley\, working in his family’s corner market after school. Tran served in the U.S. Army and later became a consumer rights attorney. He serves as the Ranking Member of the Oversight\, Investigations\, and Regulations Subcommittee within the House Small Business Committee\, influencing oversight of federal regulations and ensuring accountability in small business programs. Tran narrowly defeated \nRepublican incumbent Michelle Steel in one of the most competitive and expensive House races. Tran’s victory marked a significant political shift in a district with a large Asian American population\, including the nation’s largest Vietnamese community. \n\n\n\nAdam Gray 13th District (San Joaquin Valley\, including Merced\, Madera\, and southern Modesto)\nA native of Merced\, Gray previously served in the California State Assembly from 2012 to 2022\, representing the Central Valley. His legislative focus has been on water policy\, agriculture\, education\, and infrastructure—key issues for his district. In Congress\, Gray holds a leadership role as the Whip of the Blue Dog Coalition\, a group of centrist Democrats advocating for fiscal responsibility and bipartisan solutions. He also serves on the House Agriculture and Natural Resources Committees. He narrowly unseated Republican incumbent John Duarte in the 2024 election\, winning by fewer than 200 votes in one of the nation’s closest and final House races to be decided.\n\n \n\nThis is a unique opportunity to gain insight into what it takes to win and to govern as the minority party in these very challenging times. Come with questions\, bring a friend\, and get inspired.\n \n\nEvent Hosts:\nThe PoD (a community in SB dedicated to Protecting our Democracy)\nLeslie Bhutani ~ Gary Bradhering  ~  Michele Cuttler ~ Ann Daniel ~ Deborah David ~ Jane Eagleton ~ Jill Finsten ~ Patricia French ~ Martha Gabbert ~ Sheraton Kalouria ~ Beryl Kreisel ~ Dorothy Largay ~ John Lewis ~ Ed McKinley ~ Claudette Roehrig ~ Susan Rose ~ Nancy Sheldon ~ Merryl Zegar
URL:https://demwomensb.com/event/inside-the-freshman-fight-a-zoom-conversation-with-cas-new-members-of-congress/
ATTACH;FMTTYPE=image/jpeg:https://demwomensb.com/wp-content/uploads/2025/05/Whitesides-Tran-Gray-Zoom-061025-2.jpg
END:VEVENT
END:VCALENDAR