BEGIN:VCALENDAR
VERSION:2.0
PRODID:-//Democratic Women of Santa Barbara County - ECPv6.15.20//NONSGML v1.0//EN
CALSCALE:GREGORIAN
METHOD:PUBLISH
X-WR-CALNAME:Democratic Women of Santa Barbara County
X-ORIGINAL-URL:https://demwomensb.com
X-WR-CALDESC:Events for Democratic Women of Santa Barbara County
REFRESH-INTERVAL;VALUE=DURATION:PT1H
X-Robots-Tag:noindex
X-PUBLISHED-TTL:PT1H
BEGIN:VTIMEZONE
TZID:America/Los_Angeles
BEGIN:DAYLIGHT
TZOFFSETFROM:-0800
TZOFFSETTO:-0700
TZNAME:PDT
DTSTART:20250309T100000
END:DAYLIGHT
BEGIN:STANDARD
TZOFFSETFROM:-0700
TZOFFSETTO:-0800
TZNAME:PST
DTSTART:20251102T090000
END:STANDARD
BEGIN:DAYLIGHT
TZOFFSETFROM:-0800
TZOFFSETTO:-0700
TZNAME:PDT
DTSTART:20260308T100000
END:DAYLIGHT
BEGIN:STANDARD
TZOFFSETFROM:-0700
TZOFFSETTO:-0800
TZNAME:PST
DTSTART:20261101T090000
END:STANDARD
BEGIN:DAYLIGHT
TZOFFSETFROM:-0800
TZOFFSETTO:-0700
TZNAME:PDT
DTSTART:20270314T100000
END:DAYLIGHT
BEGIN:STANDARD
TZOFFSETFROM:-0700
TZOFFSETTO:-0800
TZNAME:PST
DTSTART:20271107T090000
END:STANDARD
END:VTIMEZONE
BEGIN:VEVENT
DTSTART;TZID=America/Los_Angeles:20260302T173000
DTEND;TZID=America/Los_Angeles:20260302T183000
DTSTAMP:20260423T043556
CREATED:20260216T191011Z
LAST-MODIFIED:20260216T213221Z
UID:5030-1772472600-1772476200@demwomensb.com
SUMMARY:Social Lab: Fear by Design: ICE Tactics\, Impact & What We Can Do About It
DESCRIPTION:March 2\, 2026 | 5:30–6:30 PM\nLocation: Biergarten 11 Anacapa St\, Santa Barbara\, CA 93101\nHosted by: Democratic Women of Santa Barbara County\nFree Event | Open to the Public \n \nAcross the United States\, immigration enforcement tactics are increasingly structured around visibility and intimidation — including sudden raids\, masked and heavily armed officers\, limited transparency\, and arrests that reverberate through entire communities. \nWhile national coverage often centers on political debate\, the lived impact is local. Families face uncertainty. Schools experience disruption. Community trust is strained. Public safety conversations become more complex. \nThis Social Lab is designed to bring clarity and grounded understanding to these local realities. Rather than amplifying fear\, we will examine: \n\nWhat specific ICE tactics look like in practice\nHow these tactics affect community safety and trust in Santa Barbara County\nThe legal rights individuals hold during enforcement encounters\nHow local leaders and organizations are responding\nConcrete ways residents can support humane\, accountable policy\n\nFeatured Speakers \nLaura Capps\nA countywide policy and public-safety perspective. \nPrimitiva Hernandez\nCommunity support\, rapid response networks\, and local resources. \nImmigrant Legal Defense Center\nLegal insight on enforcement practices\, rights\, and due process. \nAs with all DemWomen Social Labs\, this session is structured to foster connection\, informed dialogue\, and civic action. Participants will leave with practical language\, local resource awareness\, and meaningful ways to engage. \nWe invite you to join us for an evening of learning\, solidarity\, and community leadership.
URL:https://demwomensb.com/event/social-lab-fear-by-design-ice-tactics-impact-what-we-can-do-about-it/
LOCATION:Biergarten in the Funk Zone at 11 Anacapa Street\,
ATTACH;FMTTYPE=image/png:https://demwomensb.com/wp-content/uploads/2026/02/2026-MAR-Social-Lab-FB-2.png
END:VEVENT
BEGIN:VEVENT
DTSTART;TZID=America/Los_Angeles:20260319T183000
DTEND;TZID=America/Los_Angeles:20260319T200000
DTSTAMP:20260423T043556
CREATED:20260318T203700Z
LAST-MODIFIED:20260318T204002Z
UID:5040-1773945000-1773950400@demwomensb.com
SUMMARY:Sable pipeline reopened - protest Thursday 3/19/26
DESCRIPTION:Protest Thursday 6:30pm at Dolphin Statue\, Stearns Warf.
URL:https://demwomensb.com/event/sable-pipeline-reopened-protest-thursday-3-19-26/
LOCATION:Cabrillo Blvd on either side of the dolphin statue at Stearns Wharf\, 217 Stearns Wharf\, Santa Barbara\, CA\, 93111\, United States
ATTACH;FMTTYPE=image/jpeg:https://demwomensb.com/wp-content/uploads/2026/03/resist-rise-1-.jpg
END:VEVENT
BEGIN:VEVENT
DTSTART;VALUE=DATE:20260328
DTEND;VALUE=DATE:20260329
DTSTAMP:20260423T043556
CREATED:20260216T213546Z
LAST-MODIFIED:20260318T204430Z
UID:5034-1774656000-1774742399@demwomensb.com
SUMMARY:NO KINGS! 3
DESCRIPTION:Saturday March 28th \nAlameda Park \n11am: Meet our community partners \n12:30pm: Rally and speeches \n1:30pm: March to De La Guerra Plaza
URL:https://demwomensb.com/event/no-kings-3/
ATTACH;FMTTYPE=image/png:https://demwomensb.com/wp-content/uploads/2026/02/Rally-and-March-20-x-30-in-8.5-x-11-in.png
END:VEVENT
END:VCALENDAR